BEGIN:VCALENDAR
VERSION:2.0
PRODID:-//hacksw/handcal//NONSGML v1.0//EN
BEGIN:VEVENT
UID:a54825b478fdd02c9a2600b734e2c8a2
DTSTAMP:20260422T031228Z

DTSTART:20181110T140000
DTEND:20181110T140000
SUMMARY:Assemblée générale 
DESCRIPTION:
LOCATION:
END:VEVENT

END:VCALENDAR
