BEGIN:VCALENDAR
VERSION:2.0
PRODID:-//hacksw/handcal//NONSGML v1.0//EN
BEGIN:VEVENT
UID:cbe9547bfff2a92c229bb45aee2ebbb6
DTSTAMP:20260422T044914Z

DTSTART:20181110T140000
DTEND:20181110T140000
SUMMARY:Les trophés de l'USB
DESCRIPTION:
LOCATION:
END:VEVENT

END:VCALENDAR
