BEGIN:VCALENDAR
VERSION:2.0
PRODID:-//hacksw/handcal//NONSGML v1.0//EN
BEGIN:VEVENT
UID:e7aea6591ec7aecf9c139c39e47298cf
DTSTAMP:20260422T000817Z

DTSTART:20190316T180000
DTEND:20190316T180000
SUMMARY:Grand Prix de la Vallée en nocturne à Chabanon
DESCRIPTION:
LOCATION:
END:VEVENT

END:VCALENDAR
