BEGIN:VCALENDAR
VERSION:2.0
PRODID:-//hacksw/handcal//NONSGML v1.0//EN
BEGIN:VEVENT
UID:137667d95c924638693636ccdba7a100
DTSTAMP:20260422T000658Z

DTSTART:20190320T080000
DTEND:20190320T080000
SUMMARY:Course Départementale Ski Alpin à Chabanon
DESCRIPTION:
LOCATION:
END:VEVENT

END:VCALENDAR
