BEGIN:VCALENDAR
VERSION:2.0
PRODID:-//hacksw/handcal//NONSGML v1.0//EN
BEGIN:VEVENT
UID:06c090b4e82c516e064e90f0150f7d2c
DTSTAMP:20260422T062717Z

DTSTART:20190302T000000
DTEND:20190303T000000
SUMMARY:Escourancha Course de moto sur neige
DESCRIPTION:MOTO – Enduro Sprint sur neige à Seyne les Alpes

L’ Escourancha Seynarde

2/3 MARS 2019 => L’USB MOTO organise son premier enduro moto sur neige propulsé par Antoine Méo !!

Épreuve se déroulant dans la station de ski du Grand-Puy près de Seyne les Alpes.

Un nouveau concept de compétition moto dans les Alpes de Haute-Provence !
LOCATION:
END:VEVENT

END:VCALENDAR
