BEGIN:VCALENDAR
VERSION:2.0
PRODID:-//hacksw/handcal//NONSGML v1.0//EN
BEGIN:VEVENT
UID:0e03e5c43c3e067df78b37c9de14185d
DTSTAMP:20260421T082338Z

DTSTART:20190518T093000
DTEND:20190518T093000
SUMMARY:Tournoi Foot U14 ANNULE 
DESCRIPTION:
LOCATION:
END:VEVENT

END:VCALENDAR
