BEGIN:VCALENDAR
VERSION:2.0
PRODID:-//hacksw/handcal//NONSGML v1.0//EN
BEGIN:VEVENT
UID:2d73979b2bad78c9a4af19b0ebbfdfe3
DTSTAMP:20260422T032635Z

DTSTART:20190219T190000
DTEND:20190219T190000
SUMMARY:Fanget: Soirée Pleine Lune Randonnée + repas
DESCRIPTION:
LOCATION:
END:VEVENT

END:VCALENDAR
