BEGIN:VCALENDAR
VERSION:2.0
PRODID:-//hacksw/handcal//NONSGML v1.0//EN
BEGIN:VEVENT
UID:758dfcee7958bf212eb794751a8a5c51
DTSTAMP:20260421T082048Z

DTSTART:20190317T110000
DTEND:20190317T110000
SUMMARY:Matchs officiels U14 et Senior Maison des jeunes Seyne-les-Alpes
DESCRIPTION:11h Match U14: USB Seyne - Sainte Tulle

14h30 Match Senior USB Seyne - Barcelonnette
LOCATION:
END:VEVENT

END:VCALENDAR
