BEGIN:VCALENDAR
VERSION:2.0
PRODID:-//hacksw/handcal//NONSGML v1.0//EN
BEGIN:VEVENT
UID:13315d36cd6b45a4ffe9342c12a186a4
DTSTAMP:20260422T031708Z

DTSTART:20190818T070000
DTEND:20190818T070000
SUMMARY:Trail de Dormillouse Unesco Géoparc
DESCRIPTION:
LOCATION:
END:VEVENT

END:VCALENDAR
