BEGIN:VCALENDAR
VERSION:2.0
PRODID:-//hacksw/handcal//NONSGML v1.0//EN
BEGIN:VEVENT
UID:164bc4c0d12414cd2a6c9b0d915aa148
DTSTAMP:20260422T000556Z

DTSTART:20190330T000000
DTEND:20190330T000000
SUMMARY:Fête du ski club à Chababon
DESCRIPTION:Fête de fin de saison.

A partir de 9h00 .Parallèle organisé par les entraîneurs du ski club suivi d'un repas partagé le midi.


LOCATION:
END:VEVENT

END:VCALENDAR
