BEGIN:VCALENDAR
VERSION:2.0
PRODID:-//hacksw/handcal//NONSGML v1.0//EN
BEGIN:VEVENT
UID:33fa552f828e5da3eac98079db27cb60
DTSTAMP:20260422T044442Z

DTSTART:20190330T140000
DTEND:20190331T113000
SUMMARY:Coucours sociétaire à Seyne-les-Alpes
DESCRIPTION:Inscription au Bar Le Borely à Seyne.
Pétanque: Samedi 30 mars à 14h00
Jeu provençal: Dimanche à 8h30
LOCATION:
END:VEVENT

END:VCALENDAR
