BEGIN:VCALENDAR
VERSION:2.0
PRODID:-//hacksw/handcal//NONSGML v1.0//EN
BEGIN:VEVENT
UID:6a17c61138b3ee1f6f0537c15d46d992
DTSTAMP:20260422T032710Z

DTSTART:20190405T200000
DTEND:20190405T220000
SUMMARY:Veilllée du Bastion_Le ski au Pays de Seyne
DESCRIPTION:
LOCATION:
END:VEVENT

END:VCALENDAR
