BEGIN:VCALENDAR
VERSION:2.0
PRODID:-//hacksw/handcal//NONSGML v1.0//EN
BEGIN:VEVENT
UID:e62707936d89ccd07d6670b13c581cd7
DTSTAMP:20260422T061510Z

DTSTART:20190427T090000
DTEND:20190427T090000
SUMMARY:2ème Edition Challenge Eugène Anfossi 
DESCRIPTION:Pétanque 3X3 organisé dans le village - limité à 64 équipes sur invitation - Retrait des cartons à 8h00. début des parties à 9h00. Inscription avant le 20 Avril.
LOCATION:
END:VEVENT

END:VCALENDAR
