BEGIN:VCALENDAR
VERSION:2.0
PRODID:-//hacksw/handcal//NONSGML v1.0//EN
BEGIN:VEVENT
UID:a52b867ee8b464a91e0b406370a5142a
DTSTAMP:20260422T031227Z

DTSTART:20190721T000000
DTEND:20190721T000000
SUMMARY:Randormillouse
DESCRIPTION:
LOCATION:
END:VEVENT

END:VCALENDAR
