BEGIN:VCALENDAR
VERSION:2.0
PRODID:-//hacksw/handcal//NONSGML v1.0//EN
BEGIN:VEVENT
UID:990069a0d2a87d43f7747f866b9cf905
DTSTAMP:20260422T044343Z

DTSTART:20190810T000000
DTEND:20190811T000000
SUMMARY:Challenge souvenir ELOI BONNARDEL jeu provençal en triplette
DESCRIPTION:
LOCATION:
END:VEVENT

END:VCALENDAR
