BEGIN:VCALENDAR
VERSION:2.0
PRODID:-//hacksw/handcal//NONSGML v1.0//EN
BEGIN:VEVENT
UID:fe7f9ef4ad256ace26e8c56ab1a974c4
DTSTAMP:20260422T031528Z

DTSTART:20190708T000000
DTEND:20190708T000000
SUMMARY:Ouverture Fanget site de pleine nature
DESCRIPTION:
LOCATION:
END:VEVENT

END:VCALENDAR
