BEGIN:VCALENDAR
VERSION:2.0
PRODID:-//hacksw/handcal//NONSGML v1.0//EN
BEGIN:VEVENT
UID:782c6de136ade4fe421b9b0ff6336936
DTSTAMP:20260422T062717Z

DTSTART:20190907T000000
DTEND:20190908T000000
SUMMARY:AchaPaïre 3ème Endurance de la Blanche
DESCRIPTION:
LOCATION:
END:VEVENT

END:VCALENDAR
