BEGIN:VCALENDAR
VERSION:2.0
PRODID:-//hacksw/handcal//NONSGML v1.0//EN
BEGIN:VEVENT
UID:6943dc5fb51df888cfc3efe33e02ecbe
DTSTAMP:20260421T210355Z

DTSTART:20190928T000000
DTEND:20190928T000000
SUMMARY:3ème Monges Alpes
DESCRIPTION:
LOCATION:
END:VEVENT

END:VCALENDAR
