BEGIN:VCALENDAR
VERSION:2.0
PRODID:-//hacksw/handcal//NONSGML v1.0//EN
BEGIN:VEVENT
UID:cbb4040a3eab714d33bdb9e5885ee206
DTSTAMP:20260422T031241Z

DTSTART:20190924T184500
DTEND:20190924T184500
SUMMARY:Conseil d'administration 
DESCRIPTION:Conseil d'administration mardi 24 septembre 2019
LOCATION:
END:VEVENT

END:VCALENDAR
