BEGIN:VCALENDAR
VERSION:2.0
PRODID:-//hacksw/handcal//NONSGML v1.0//EN
BEGIN:VEVENT
UID:18d5694e4d20b62a44f10f16aabf997a
DTSTAMP:20260422T031743Z

DTSTART:20191116T140000
DTEND:20191116T140000
SUMMARY:Assemblée générale Union Sportive de la Blanche
DESCRIPTION:
LOCATION:
END:VEVENT

END:VCALENDAR
