BEGIN:VCALENDAR
VERSION:2.0
PRODID:-//hacksw/handcal//NONSGML v1.0//EN
BEGIN:VEVENT
UID:dc2d215d0a4b99c9c0a6eddfda838ba3
DTSTAMP:20260422T031239Z

DTSTART:20191203T184500
DTEND:20191203T184500
SUMMARY:Conseil d'administration 
DESCRIPTION:Conseil d'administration USB à 18h45 la salle sous la Mairie de Seyne
LOCATION:
END:VEVENT

END:VCALENDAR
