BEGIN:VCALENDAR
VERSION:2.0
PRODID:-//hacksw/handcal//NONSGML v1.0//EN
BEGIN:VEVENT
UID:49c28db573d8ae8ea8754ba8a1fa13e4
DTSTAMP:20260422T045847Z

DTSTART:20191221T000000
DTEND:20191221T000000
SUMMARY:Ouverture Foyer du Fanget
DESCRIPTION:
LOCATION:
END:VEVENT

END:VCALENDAR
