BEGIN:VCALENDAR
VERSION:2.0
PRODID:-//hacksw/handcal//NONSGML v1.0//EN
BEGIN:VEVENT
UID:d996aea5e2c2d877d3d0ea564e01ee94
DTSTAMP:20260422T032051Z

DTSTART:20200226T160000
DTEND:20200226T160000
SUMMARY:Randonnée Accompagnée en Raquettes Randi'Flette 
DESCRIPTION:Balade de 3h aller-retour accompagné d'un guide de moyenne montagne, coucher de soleil depuis le panorama grandiose du Plateau d’Iroire. Redescente au foyer à la frontale pour partager un moment convivial en musique avec Alexandre Videau et ses sonorités folk autour d’un verre de vin chaud et d’une gourmande tartiflette maison.
Le foyer du Fanget reste ouvert le temps de la rando !
Rendez-vous à partir de 16h au foyer du Fanget 
Tarifs: Adultes 36€ et Enfants 28€ 
Réservations Obligatoire au 04.92.31.03.71 ou au 07.81.68.64.42
Paiement possible en chèque et espèces.
LOCATION:
END:VEVENT

END:VCALENDAR
