BEGIN:VCALENDAR
VERSION:2.0
PRODID:-//hacksw/handcal//NONSGML v1.0//EN
BEGIN:VEVENT
UID:b15563f109fd5c934a0a61b526f6c6b2
DTSTAMP:20260422T032011Z

DTSTART:20200126T093000
DTEND:20200126T093000
SUMMARY:Randonnée Accompagnée en Raquettes Rando Loco
DESCRIPTION:Louis Teyssier , accompagnateur en montagne vous amène découvrir en raquettes les paysages avoisinants le site de pleine nature Le Fanget, selon vos envies. Lors de cette randonnée dégustez les produits locaux (charcuterie, fromages, bière, jus de fruits) avec un point de vue imprenable sur la montagne 
Tarifs: Adultes 20€- Enfants 13€
Réservation obligatoire au 04.92.31.03.71 ou au 07.81.68.64.42
Paiement possible en espèces et en chèques 
LOCATION:
END:VEVENT

END:VCALENDAR
