BEGIN:VCALENDAR
VERSION:2.0
PRODID:-//hacksw/handcal//NONSGML v1.0//EN
BEGIN:VEVENT
UID:9699c29178f7f84315d00c0dcfd67cda
DTSTAMP:20260422T044556Z

DTSTART:20200627T000000
DTEND:20200628T000000
SUMMARY:Bol d'Or 
DESCRIPTION:Compétition jeu provençal sur deux jours à la maison des jeunes de Seyne les Alpes      
Buvette et animations diverses.
Repas dimanche midi.
Remise des récompenses dimanche soir.
LOCATION:
END:VEVENT

END:VCALENDAR
