BEGIN:VCALENDAR
VERSION:2.0
PRODID:-//hacksw/handcal//NONSGML v1.0//EN
BEGIN:VEVENT
UID:d0743eb1734668864a3349d201cf0a64
DTSTAMP:20260422T044503Z

DTSTART:20200425T000000
DTEND:20200425T000000
SUMMARY:Challenge Anfossi
DESCRIPTION:Compétition jeu provençal à la maison des jeunes de Seyne les Alpes      
Buvette et animations diverses.

LOCATION:
END:VEVENT

END:VCALENDAR
