BEGIN:VCALENDAR
VERSION:2.0
PRODID:-//hacksw/handcal//NONSGML v1.0//EN
BEGIN:VEVENT
UID:ffc4ff04b1bb37f026e19fc144d42eb5
DTSTAMP:20260422T031238Z

DTSTART:20200815T000000
DTEND:20200815T000000
SUMMARY:Trail de Dormillouse ANNULE
DESCRIPTION:Course nature en terrain varié (piste forestière, chemin monotrace et alpages) composée de trois parcours: 11, 27 et 42 km au départ de la station de Montclar (stade municipal derrière le batiment communal).

Le parcours 27km permet de faire le tour de Dormillouse, qui domine le lac de Serre-Ponçon, les vallées de l'Ubaye et de la Blanche, le parcours 42km emprunte le 27km et passe par le fort de Dormillouse et les magiques crêtes de la chaine de la Blanche.

Un trail pour les enfants non chronométré. Ouvert à tous de 6 à 15 ans, inscription gratuite en ligne ou par courier, récompenses pour tous. Parcours de différentes distances en fonction de l'âge.

Distribution de plateaux repas sur place à partir de 12h00 et remise des prix à l'issue de la course à 15h30.
LOCATION:
END:VEVENT

END:VCALENDAR
