BEGIN:VCALENDAR
VERSION:2.0
PRODID:-//hacksw/handcal//NONSGML v1.0//EN
BEGIN:VEVENT
UID:d9e8085b58da6b80f381bc0c904c391b
DTSTAMP:20260422T110036Z

DTSTART:20200126T090000
DTEND:20200126T130000
SUMMARY:Tournois  de Hockey sur Glace 
DESCRIPTION:
LOCATION:
END:VEVENT

END:VCALENDAR
