BEGIN:VCALENDAR
VERSION:2.0
PRODID:-//hacksw/handcal//NONSGML v1.0//EN
BEGIN:VEVENT
UID:7557cf242a9712bd13f26893d3a9125e
DTSTAMP:20260422T001243Z

DTSTART:20200208T180000
DTEND:20200208T180000
SUMMARY:Grand Prix Nocturne de la Vallée de la Blanche 
DESCRIPTION:Découvrez nos champions à travers une course Slalom organisée par le Ski Club Vallée de La Blanche. 
Circuit ESF des Hautes Alpes Ubaye à la station de ski de Chabanon 
A partir de 18h 
Slalom en 2 manches hommes et femme, de la catégorie U18 à master
Arrivée jugée sur le front de neige. 
LOCATION:
END:VEVENT

END:VCALENDAR
