BEGIN:VCALENDAR
VERSION:2.0
PRODID:-//hacksw/handcal//NONSGML v1.0//EN
BEGIN:VEVENT
UID:6480c32305dafc47c0442d73b133b746
DTSTAMP:20260422T062807Z

DTSTART:20201004T000000
DTEND:20201004T000000
SUMMARY:Trial Moto de la Blanche
DESCRIPTION:Trial moto de la Blanche le 6 et 7 juin 2020
LOCATION:
END:VEVENT

END:VCALENDAR
