BEGIN:VCALENDAR
VERSION:2.0
PRODID:-//hacksw/handcal//NONSGML v1.0//EN
BEGIN:VEVENT
UID:310b64f78cf0e8826139cc421fcf696f
DTSTAMP:20260422T031921Z

DTSTART:20200207T180000
DTEND:20200207T220000
SUMMARY:Soirée Pleine Lune au Fanget
DESCRIPTION:Venez faire une randonnée facile au clair du lune et découvrez un panorama sensationnel sur la vallée !
LOCATION:
END:VEVENT

END:VCALENDAR
