BEGIN:VCALENDAR
VERSION:2.0
PRODID:-//hacksw/handcal//NONSGML v1.0//EN
BEGIN:VEVENT
UID:53e77e6486368d10aee390734845642d
DTSTAMP:20260422T044504Z

DTSTART:20200719T000000
DTEND:20200719T000000
SUMMARY:Randormillouse 
DESCRIPTION:
LOCATION:
END:VEVENT

END:VCALENDAR
