BEGIN:VCALENDAR
VERSION:2.0
PRODID:-//hacksw/handcal//NONSGML v1.0//EN
BEGIN:VEVENT
UID:90b8ef302bb6a4e89c0eab6679598a77
DTSTAMP:20260422T044914Z

DTSTART:20200814T200000
DTEND:20200814T200000
SUMMARY:Soirée Soupe au Pistou
DESCRIPTION:
LOCATION:
END:VEVENT

END:VCALENDAR
