BEGIN:VCALENDAR
VERSION:2.0
PRODID:-//hacksw/handcal//NONSGML v1.0//EN
BEGIN:VEVENT
UID:034317787b6e347410106a8ea9ac4f1c
DTSTAMP:20260421T222631Z

DTSTART:20200926T000000
DTEND:20200926T000000
SUMMARY:Randonnée touristique et historique Monges-Alpes
DESCRIPTION:
LOCATION:
END:VEVENT

END:VCALENDAR
