BEGIN:VCALENDAR
VERSION:2.0
PRODID:-//hacksw/handcal//NONSGML v1.0//EN
BEGIN:VEVENT
UID:bd4f6214fe51dd1fb9c10cb4ad3f744f
DTSTAMP:20260422T031923Z

DTSTART:20210711T000000
DTEND:20210715T000000
SUMMARY:Stage de planeur à Seyne-les-Alpes
DESCRIPTION:Seyne Alpes Gliding Association en partenariat avec l'USB organise un stage d'initiation au vol en planeur du samedi 11 juillet au jeudi 15 juillet, l'idée est d'apporter des notions théoriques le matin et de passer à la pratique l'après-midi. Le public visé correspond à des jeunes entre 15 et 25ans, motivés et prêts à s'investir. Une participation financière de 350€ sera demandée.
LOCATION:
END:VEVENT

END:VCALENDAR
