BEGIN:VCALENDAR
VERSION:2.0
PRODID:-//hacksw/handcal//NONSGML v1.0//EN
BEGIN:VEVENT
UID:daaa811c0600c3f78f20a17c90f06b53
DTSTAMP:20260422T044503Z

DTSTART:20210718T000000
DTEND:20210718T000000
SUMMARY:Randormillouse à Montclar
DESCRIPTION:Randonnée
LOCATION:
END:VEVENT

END:VCALENDAR
