BEGIN:VCALENDAR
VERSION:2.0
PRODID:-//hacksw/handcal//NONSGML v1.0//EN
BEGIN:VEVENT
UID:554a69a48f892ee162c03f24ffddca00
DTSTAMP:20260422T031344Z

DTSTART:20210814T000000
DTEND:20210814T000000
SUMMARY:Trail de Dormillouse Annulé
DESCRIPTION:Trail de Dormillouse
LOCATION:
END:VEVENT

END:VCALENDAR
