BEGIN:VCALENDAR
VERSION:2.0
PRODID:-//hacksw/handcal//NONSGML v1.0//EN
BEGIN:VEVENT
UID:27ddd400a9ceb16424e1832fcb7d12c7
DTSTAMP:20260421T222719Z

DTSTART:20211002T000000
DTEND:20211002T000000
SUMMARY:5ème Monges Alpes
DESCRIPTION:
LOCATION:
END:VEVENT

END:VCALENDAR
