BEGIN:VCALENDAR
VERSION:2.0
PRODID:-//hacksw/handcal//NONSGML v1.0//EN
BEGIN:VEVENT
UID:f030305530de690d2b8f13a72a4b3b58
DTSTAMP:20260422T063231Z

DTSTART:20220702T080000
DTEND:20220703T170000
SUMMARY:Trial Moto Epreuve de la Ligue 2022
DESCRIPTION:Trial de Ligue, Épreuve de Championnat de France et Championnat de Provence de trial Moto
5ème Edition
LOCATION:
END:VEVENT

END:VCALENDAR
