BEGIN:VCALENDAR
VERSION:2.0
PRODID:-//hacksw/handcal//NONSGML v1.0//EN
BEGIN:VEVENT
UID:e38808ca62a0c029de4276748db7819c
DTSTAMP:20260422T062002Z

DTSTART:20220917T080000
DTEND:20220918T170000
SUMMARY:Endurance Moto TT 2022
DESCRIPTION:La section moto de l'Union Sportive de la Blanche organise une épreuve d'endurance T.T. Motos quartier du FAU sur un domaine de plus de 800 hectares sur la commune de Seyne les Alpes

Cette manifestation devrait réjouir les pilotes car elle se déroulera à  travers bois avec des dénivelés importants .

4 ème Edition
LOCATION:
END:VEVENT

END:VCALENDAR
