BEGIN:VCALENDAR
VERSION:2.0
PRODID:-//hacksw/handcal//NONSGML v1.0//EN
BEGIN:VEVENT
UID:3a3b0bd065c492ee1caab70049ad0331
DTSTAMP:20260422T031341Z

DTSTART:20240811T080000
DTEND:20240811T170000
SUMMARY:Trail de Dormillouse 11ème Edition
DESCRIPTION:11ème édition : Dimanche 11 août 2024

Course nature en terrain varié (piste forestière, chemin monotrace et alpages) composée de trois parcours: 11, 26.5 et 42 km au départ de la station de Montclar (stade municipal derrière le batiment communal).

Le parcours 26.5km permet de faire le tour de Dormillouse, qui domine le lac de Serre-Ponçon, les vallées de l'Ubaye et de la Blanche, le parcours 42km emprunte le 26.5km et passe par le fort de Dormillouse et les magiques crêtesde la chaine de la Blanche.

Distribution des repas sur place à partir de 12h00 et remise des prix à l'issue de la course à 15h30.
LOCATION:
END:VEVENT

END:VCALENDAR
