BEGIN:VCALENDAR
VERSION:2.0
PRODID:-//hacksw/handcal//NONSGML v1.0//EN
BEGIN:VEVENT
UID:e91e4ad671d0b297c5510ccc15cae0f2
DTSTAMP:20260422T061643Z

DTSTART:20211209T190000
DTEND:20211209T210000
SUMMARY:Badminton - Séance Essai
DESCRIPTION:La section badminton reprend du service!
La nouvelle équipe vous attend jeudi 9 décembre de 19h à 21h dans le nouveau gymnase pour une séance d'essai gratuite ouverte à tous (adultes et enfants à partir de 7 ans)
LOCATION:
END:VEVENT

END:VCALENDAR
