BEGIN:VCALENDAR
VERSION:2.0
PRODID:-//hacksw/handcal//NONSGML v1.0//EN
BEGIN:VEVENT
UID:23e343a0373440b1c43e5e557ede50ef
DTSTAMP:20260422T000829Z

DTSTART:20220213T180000
DTEND:20220213T203000
SUMMARY:LOTO SKI CLUB
DESCRIPTION:Le Ski Club organise son loto annuel le 13 février 2022 à 18h sur la station de Montclar.
De nombreux lots à gagner (-séjour Yelloh Village, forfait de ski, repas, produits de pays,...)
LOCATION:
END:VEVENT

END:VCALENDAR
