BEGIN:VCALENDAR
VERSION:2.0
PRODID:-//hacksw/handcal//NONSGML v1.0//EN
BEGIN:VEVENT
UID:b48993f6355ced32534e2554cf6a20ab
DTSTAMP:20260422T061637Z

DTSTART:20220910T080000
DTEND:20220911T180000
SUMMARY:9ème Raid de La Blanche
DESCRIPTION:
LOCATION:
END:VEVENT

END:VCALENDAR
