BEGIN:VCALENDAR
VERSION:2.0
PRODID:-//hacksw/handcal//NONSGML v1.0//EN
BEGIN:VEVENT
UID:739f65edc442caa6b1854ad9938c3442
DTSTAMP:20260422T044804Z

DTSTART:20220903T100000
DTEND:20220903T160000
SUMMARY:FORUM DES ASSOCIATIONS
DESCRIPTION:Journée découverte des différentes sections sportives de l'Union Sportive de la Blanche et des Associations de la Vallée de La Blanche.
LOCATION:
END:VEVENT

END:VCALENDAR
