BEGIN:VCALENDAR
VERSION:2.0
PRODID:-//hacksw/handcal//NONSGML v1.0//EN
BEGIN:VEVENT
UID:e62edf350dc96ecf7a551230e3310688
DTSTAMP:20260421T160228Z

DTSTART:20221001T080000
DTEND:20221001T200000
SUMMARY:Balade Monges Alpes 
DESCRIPTION:
LOCATION:
END:VEVENT

END:VCALENDAR
