BEGIN:VCALENDAR
VERSION:2.0
PRODID:-//hacksw/handcal//NONSGML v1.0//EN
BEGIN:VEVENT
UID:18d5f2f3ce7dc10f3d5891bf212864c6
DTSTAMP:20260421T205036Z

DTSTART:20220923T193000
DTEND:20220923T210000
SUMMARY:Assemblée Générale Boxe Kick Seynois
DESCRIPTION:Assemblée Générale de la section Boxe Kick Seynois pour l'année 2021/2022 à 19h30 au dojo
LOCATION:
END:VEVENT

END:VCALENDAR
