BEGIN:VCALENDAR
VERSION:2.0
PRODID:-//hacksw/handcal//NONSGML v1.0//EN
BEGIN:VEVENT
UID:9b5a21c4a35b62d5142e745a4ceba4f7
DTSTAMP:20260422T061638Z

DTSTART:20220920T180000
DTEND:20220920T200000
SUMMARY:Assemblée Générale Natation
DESCRIPTION:Assemblée Générale de la Section Natation à 18h00 salle Roche Close
LOCATION:
END:VEVENT

END:VCALENDAR
