BEGIN:VCALENDAR
VERSION:2.0
PRODID:-//hacksw/handcal//NONSGML v1.0//EN
BEGIN:VEVENT
UID:e1a14ce054cf9ee05d1be07be1c9ff1a
DTSTAMP:20260421T173918Z

DTSTART:20220929T200000
DTEND:20220929T210000
SUMMARY:Assemblée Générale Escalade
DESCRIPTION:Assemblée Générale Escalade à 20h00 dans le nouveau gymnase
LOCATION:
END:VEVENT

END:VCALENDAR
