BEGIN:VCALENDAR
VERSION:2.0
PRODID:-//hacksw/handcal//NONSGML v1.0//EN
BEGIN:VEVENT
UID:cfc1136759ae9879d2597c1f2ff24ae6
DTSTAMP:20260422T061545Z

DTSTART:20221003T190000
DTEND:20221003T210000
SUMMARY:Assemblée Générale Section Raquettes
DESCRIPTION:Assemblée Générale de la Section Raquettes le 3 octobre 2022 à 19h00, salle de réunion sous la mairie.
LOCATION:
END:VEVENT

END:VCALENDAR
